BEGIN:VCALENDAR
VERSION:2.0
PRODID:-//Erfurter Männerchor 1890 e.V.//Hugo//DE
CALSCALE:GREGORIAN
METHOD:PUBLISH
BEGIN:VEVENT
UID:8968ba46cf68f2ae23b19091c1135aa6@emc1890.de
DTSTAMP:20260422T075419Z
DTSTART:20230911T170000Z
DTEND:20230911T190000Z
SUMMARY:Öffentliche Probe
LOCATION:Meistersaal Gildehaus
DESCRIPTION:Öffentliche Chorprobe im Meistersaal des Gildehauses – Gäste sind herzlich willkommen.
URL:https://emc1890.de/konzerte/archiv/2023/oeffentliche-probe/
STATUS:CONFIRMED
END:VEVENT
END:VCALENDAR
