BEGIN:VCALENDAR
VERSION:2.0
PRODID:-//Erfurter Männerchor 1890 e.V.//Hugo//DE
CALSCALE:GREGORIAN
METHOD:PUBLISH
BEGIN:VEVENT
UID:1883cfd5fb7efb1292a557b60f46a8e3@emc1890.de
DTSTAMP:20260422T075419Z
DTSTART:20230210T230000Z
DTEND:20230211T010000Z
SUMMARY:Meisterfreisprechung
LOCATION:Messehalle 1
DESCRIPTION:Musikalische Umrahmung der Meisterfreisprechung in der Messehalle 1 – geschlossene Veranstaltung.
URL:https://emc1890.de/konzerte/archiv/2023/meisterfreisprechung/
STATUS:CONFIRMED
END:VEVENT
END:VCALENDAR
