BEGIN:VCALENDAR
VERSION:2.0
PRODID:-//Erfurter Männerchor 1890 e.V.//Hugo//DE
CALSCALE:GREGORIAN
METHOD:PUBLISH
BEGIN:VEVENT
UID:92d7f81f8f2492c1028e3ab20d03f73b@emc1890.de
DTSTAMP:20260422T075419Z
DTSTART:20231203T160000Z
DTEND:20231203T180000Z
SUMMARY:Kleines Adventskonzert zum 1. Advent
LOCATION:Andreaskirche Erfurt
DESCRIPTION:Kleines Adventskonzert zum 1. Advent in der Andreaskirche Erfurt. Eintritt frei, Spenden für die Kirchturmsanierung willkommen.
URL:https://emc1890.de/konzerte/archiv/2023/kleines-adventskonzert/
STATUS:CONFIRMED
END:VEVENT
END:VCALENDAR
