BEGIN:VCALENDAR
VERSION:2.0
PRODID:-//Erfurter Männerchor 1890 e.V.//Hugo//DE
CALSCALE:GREGORIAN
METHOD:PUBLISH
BEGIN:VEVENT
UID:652ad8e784027343d27095c3c0778f4f@emc1890.de
DTSTAMP:20260422T075419Z
DTSTART:20230618T150000Z
DTEND:20230618T170000Z
SUMMARY:&#34;What a wonderful world&#34;
LOCATION:Kaufmannskirche Erfurt
DESCRIPTION:Konzert &amp;ldquo;What a wonderful world&amp;rdquo; in der Kaufmannskirche Erfurt. Karten über die Tourist-Information.
URL:https://emc1890.de/konzerte/archiv/2023/kaufmannskirche/
STATUS:CONFIRMED
END:VEVENT
END:VCALENDAR
