BEGIN:VCALENDAR
VERSION:2.0
PRODID:-//Erfurter Männerchor 1890 e.V.//Hugo//DE
CALSCALE:GREGORIAN
METHOD:PUBLISH
BEGIN:VEVENT
UID:5c3bed468b0ab55daf0a374fbc164357@emc1890.de
DTSTAMP:20260422T075419Z
DTSTART:20230331T173000Z
DTEND:20230331T193000Z
SUMMARY:Lange Nacht der Hausmusik
LOCATION:Meistersaal Gildehaus
DESCRIPTION:Konzert im Rahmen der Thüringer Bachwochen – Lange Nacht der Hausmusik im Meistersaal des Gildehauses. Eintritt frei.
URL:https://emc1890.de/konzerte/archiv/2023/hausmusik/
STATUS:CONFIRMED
END:VEVENT
END:VCALENDAR
