BEGIN:VCALENDAR
VERSION:2.0
PRODID:-//Erfurter Männerchor 1890 e.V.//Hugo//DE
CALSCALE:GREGORIAN
METHOD:PUBLISH
BEGIN:VEVENT
UID:9c562e0f28783b8d20c2d8bc103cf103@emc1890.de
DTSTAMP:20260422T075419Z
DTSTART:20230428T173000Z
DTEND:20230428T193000Z
SUMMARY:2. Frühlingskonzert von Chören im Sängerkreis Erfurt
LOCATION:Rathausfestsaal Erfurt
DESCRIPTION: Frühlingskonzert von Chören im Rathausfestsaal unter Schirmherrschaft des Erfurter Sängerkreises mit fünf Erfurter Chören. 
URL:https://emc1890.de/konzerte/archiv/2023/fruehlingskonzert/
STATUS:CONFIRMED
END:VEVENT
END:VCALENDAR
