BEGIN:VCALENDAR
VERSION:2.0
PRODID:-//Erfurter Männerchor 1890 e.V.//Hugo//DE
CALSCALE:GREGORIAN
METHOD:PUBLISH
BEGIN:VEVENT
UID:68aa901e45fe4db620927ad7ff0d1003@emc1890.de
DTSTAMP:20260422T075419Z
DTSTART:20230902T120000Z
DTEND:20230902T200000Z
SUMMARY:Chorreise nach Iba/Bebra
LOCATION:Iba/Bebra
DESCRIPTION:Chorreise zum 100-jährigen Jubiläum des Gemischten Chors Iba. Abfahrt 14:00 Uhr am Intercity-Hotel Erfurt.
URL:https://emc1890.de/konzerte/archiv/2023/chorreise-iba/
STATUS:CONFIRMED
END:VEVENT
END:VCALENDAR
