BEGIN:VCALENDAR
VERSION:2.0
PRODID:-//Erfurter Männerchor 1890 e.V.//Hugo//DE
CALSCALE:GREGORIAN
METHOD:PUBLISH
BEGIN:VEVENT
UID:f9ea1f93a051be1315f38ca3edb5672a@emc1890.de
DTSTAMP:20260422T075419Z
DTSTART:20231021T160000Z
DTEND:20231021T180000Z
SUMMARY:Benefizkonzert
LOCATION:Freie evangelische Gemeinde Erfurt
DESCRIPTION:Benefizkonzert zugunsten des PIXEL-Sozialwerks in der Freien evangelischen Gemeinde Erfurt. Eintritt frei, Spenden erbeten.
URL:https://emc1890.de/konzerte/archiv/2023/benefizkonzert/
STATUS:CONFIRMED
END:VEVENT
END:VCALENDAR
