BEGIN:VCALENDAR
VERSION:2.0
PRODID:-//Erfurter Männerchor 1890 e.V.//Hugo//DE
CALSCALE:GREGORIAN
METHOD:PUBLISH
BEGIN:VEVENT
UID:7b952bac291b1f1232e849baca94162f@emc1890.de
DTSTAMP:20260422T075419Z
DTSTART:20231216T160000Z
DTEND:20231216T180000Z
SUMMARY:Handwerker-Adventsmarkt – Tag 2
LOCATION:Innenhof Gildehaus
DESCRIPTION:Auftritt beim Handwerker-Adventsmarkt im Innenhof des Gildehauses – Tag 2. Eintritt frei.
URL:https://emc1890.de/konzerte/archiv/2023/adventsmarkt-2/
STATUS:CONFIRMED
END:VEVENT
END:VCALENDAR
