BEGIN:VCALENDAR
VERSION:2.0
PRODID:-//Erfurter Männerchor 1890 e.V.//Hugo//DE
CALSCALE:GREGORIAN
METHOD:PUBLISH
BEGIN:VEVENT
UID:49280ada26f7424906e58cc1852d70a4@emc1890.de
DTSTAMP:20260422T075419Z
DTSTART:20231215T170000Z
DTEND:20231215T190000Z
SUMMARY:Handwerker-Adventsmarkt – Tag 1
LOCATION:Innenhof Gildehaus
DESCRIPTION:Auftritt beim Handwerker-Adventsmarkt im Innenhof des Gildehauses – Tag 1. Eintritt frei.
URL:https://emc1890.de/konzerte/archiv/2023/adventsmarkt-1/
STATUS:CONFIRMED
END:VEVENT
END:VCALENDAR
