BEGIN:VCALENDAR
VERSION:2.0
PRODID:-//Erfurter Männerchor 1890 e.V.//Hugo//DE
CALSCALE:GREGORIAN
METHOD:PUBLISH
BEGIN:VEVENT
UID:135748deb7e311d34f140dea5a0eada9@emc1890.de
DTSTAMP:20260422T075419Z
DTSTART:20231209T180000Z
DTEND:20231209T200000Z
SUMMARY:2. Adventskonzert in der Thomaskirche
LOCATION:Thomaskirche Erfurt
DESCRIPTION: Adventskonzert in der Thomaskirche Erfurt. Restkarten an der Abendkasse. Einlass ab 18:00 Uhr. 
URL:https://emc1890.de/konzerte/archiv/2023/adventskonzert-2/
STATUS:CONFIRMED
END:VEVENT
END:VCALENDAR
