BEGIN:VCALENDAR
VERSION:2.0
PRODID:-//Erfurter Männerchor 1890 e.V.//Hugo//DE
CALSCALE:GREGORIAN
METHOD:PUBLISH
BEGIN:VEVENT
UID:e1128f4d2f6cbe5b2cf8056ef432e066@emc1890.de
DTSTAMP:20260422T075419Z
DTSTART:20231208T180000Z
DTEND:20231208T200000Z
SUMMARY:1. Adventskonzert in der Thomaskirche
LOCATION:Thomaskirche Erfurt
DESCRIPTION: Adventskonzert in der Thomaskirche Erfurt. Kartenverkauf ab 10.11.2023 über die Tourist-Information. Einlass ab 18:00 Uhr. 
URL:https://emc1890.de/konzerte/archiv/2023/adventskonzert-1/
STATUS:CONFIRMED
END:VEVENT
END:VCALENDAR
