BEGIN:VCALENDAR
VERSION:2.0
PRODID:-//Erfurter Männerchor 1890 e.V.//Hugo//DE
CALSCALE:GREGORIAN
METHOD:PUBLISH
BEGIN:VEVENT
UID:91212e82c8dcd66ae29ae940fe5b6bb3@emc1890.de
DTSTAMP:20260422T075419Z
DTSTART:20220605T080000Z
DTEND:20220605T110000Z
SUMMARY:Traditionelles Pfingstsingen
LOCATION:Sängerwiese im Erfurter Steigerwald
DESCRIPTION:Traditionelles Pfingstsingen auf der Sängerwiese im Erfurter Steigerwald – nach 2-jähriger Corona-Pause endlich wieder!
URL:https://emc1890.de/konzerte/archiv/2022/pfingstsingen/
STATUS:CONFIRMED
END:VEVENT
END:VCALENDAR
