BEGIN:VCALENDAR
VERSION:2.0
PRODID:-//Erfurter Männerchor 1890 e.V.//Hugo//DE
CALSCALE:GREGORIAN
METHOD:PUBLISH
BEGIN:VEVENT
UID:8d928e80f22732fb95140481e41d2b4d@emc1890.de
DTSTAMP:20260422T075419Z
DTSTART:20220408T220000Z
DTEND:20220409T215900Z
SUMMARY:Meisterfreisprechung
LOCATION:Messehalle 1
DESCRIPTION:Musikalische Umrahmung der Meisterfreisprechung in der Messehalle 1. Geschlossene Veranstaltung.
URL:https://emc1890.de/konzerte/archiv/2022/meisterfreisprechung/
STATUS:CONFIRMED
END:VEVENT
END:VCALENDAR
