BEGIN:VCALENDAR
VERSION:2.0
PRODID:-//Erfurter Männerchor 1890 e.V.//Hugo//DE
CALSCALE:GREGORIAN
METHOD:PUBLISH
BEGIN:VEVENT
UID:e675ecdef9c5ef39b67bfd377d1d0f7f@emc1890.de
DTSTAMP:20260422T075419Z
DTSTART:20221127T150000Z
DTEND:20221127T170000Z
SUMMARY:Kleines Adventskonzert zum 1. Advent
LOCATION:Kirche St. Michaelis Elxleben
DESCRIPTION:Kleines Adventskonzert zum 1. Advent in der Kirche St. Michaelis in Elxleben.
URL:https://emc1890.de/konzerte/archiv/2022/kleines-adventskonzert/
STATUS:CONFIRMED
END:VEVENT
END:VCALENDAR
