BEGIN:VCALENDAR
VERSION:2.0
PRODID:-//Erfurter Männerchor 1890 e.V.//Hugo//DE
CALSCALE:GREGORIAN
METHOD:PUBLISH
BEGIN:VEVENT
UID:e2ebef364b11251afbbce25d78809a0e@emc1890.de
DTSTAMP:20260422T075419Z
DTSTART:20220521T150000Z
DTEND:20220521T170000Z
SUMMARY:Frühlingskonzert – Ein Lied geht um die Welt
LOCATION:Thomaskirche Erfurt
DESCRIPTION:Frühlingskonzert mit dem Erfurter Männerchor, dem Erfurter Lehrerchor und Natascha Scholl
URL:https://emc1890.de/konzerte/archiv/2022/fruehlingskonzert/
STATUS:CONFIRMED
END:VEVENT
END:VCALENDAR
