BEGIN:VCALENDAR
VERSION:2.0
PRODID:-//Erfurter Männerchor 1890 e.V.//Hugo//DE
CALSCALE:GREGORIAN
METHOD:PUBLISH
BEGIN:VEVENT
UID:b6fa911d0d74f016300f04b56f3c8618@emc1890.de
DTSTAMP:20260422T075419Z
DTSTART:20220907T163000Z
DTEND:20220907T183000Z
SUMMARY:Chorkonzert im Denkmal
LOCATION:Barfüßerruine
DESCRIPTION:Chorkonzert im Denkmal – Konzert des Erfurter Männerchor 1890 e.V. in der Barfüßerruine Erfurt.
URL:https://emc1890.de/konzerte/archiv/2022/chorkonzert-denkmal/
STATUS:CONFIRMED
END:VEVENT
END:VCALENDAR
