BEGIN:VCALENDAR
VERSION:2.0
PRODID:-//Erfurter Männerchor 1890 e.V.//Hugo//DE
CALSCALE:GREGORIAN
METHOD:PUBLISH
BEGIN:VEVENT
UID:2feb55ea01d086c5d10f5204dba7ddc1@emc1890.de
DTSTAMP:20260422T075419Z
DTSTART:20221003T080000Z
DTEND:20221003T190000Z
SUMMARY:Bürgerfest Tag der Deutschen Einheit – Tag 2
LOCATION:Handwerkskammer und Domplatz
DESCRIPTION:Bürgerfest zum Tag der Deutschen Einheit – Tag 2: Auftritte an der Handwerkskammer (10:00 Uhr) und auf dem Domplatz bei &amp;ldquo;Deutschland singt&amp;rdquo; (19:00 Uhr).
URL:https://emc1890.de/konzerte/archiv/2022/buergerfest-tag2/
STATUS:CONFIRMED
END:VEVENT
END:VCALENDAR
