BEGIN:VCALENDAR
VERSION:2.0
PRODID:-//Erfurter Männerchor 1890 e.V.//Hugo//DE
CALSCALE:GREGORIAN
METHOD:PUBLISH
BEGIN:VEVENT
UID:90cad345204a7ec37b9b5cda05062b94@emc1890.de
DTSTAMP:20260422T075419Z
DTSTART:20221002T080000Z
DTEND:20221002T100000Z
SUMMARY:Bürgerfest Tag der Deutschen Einheit – Tag 1
LOCATION:Innenhof Gildehaus (Biergarten Pavarotti)
DESCRIPTION:Auftritt beim Bürgerfest zum Tag der Deutschen Einheit im Innenhof des Gildehauses (Biergarten Pavarotti).
URL:https://emc1890.de/konzerte/archiv/2022/buergerfest-tag1/
STATUS:CONFIRMED
END:VEVENT
END:VCALENDAR
