BEGIN:VCALENDAR
VERSION:2.0
PRODID:-//Erfurter Männerchor 1890 e.V.//Hugo//DE
CALSCALE:GREGORIAN
METHOD:PUBLISH
BEGIN:VEVENT
UID:fd7b498a81c0e93f90f9e9cdda1fe170@emc1890.de
DTSTAMP:20260422T075419Z
DTSTART:20221209T230000Z
DTEND:20221210T225900Z
SUMMARY:Handwerker-Adventsmarkt
LOCATION:Gildehaus-Innenhof
DESCRIPTION:Auftritt beim Handwerker-Adventsmarkt im Gildehaus-Innenhof am 3. Advent.
URL:https://emc1890.de/konzerte/archiv/2022/adventsmarkt/
STATUS:CONFIRMED
END:VEVENT
END:VCALENDAR
