BEGIN:VCALENDAR
VERSION:2.0
PRODID:-//Erfurter Männerchor 1890 e.V.//Hugo//DE
CALSCALE:GREGORIAN
METHOD:PUBLISH
BEGIN:VEVENT
UID:93cc56f4814dd33ac92480374c262ee8@emc1890.de
DTSTAMP:20260422T075419Z
DTSTART:20221203T180000Z
DTEND:20221203T200000Z
SUMMARY:2. Adventskonzert
LOCATION:Thomaskirche Erfurt
DESCRIPTION: Adventskonzert in der Thomaskirche Erfurt mit dem Erfurter Männerchor 1890 e.V. und dem Erfurter Lehrerchor unter Leitung von Christian Wolf. 
URL:https://emc1890.de/konzerte/archiv/2022/adventskonzert-2/
STATUS:CONFIRMED
END:VEVENT
END:VCALENDAR
