BEGIN:VCALENDAR
VERSION:2.0
PRODID:-//Erfurter Männerchor 1890 e.V.//Hugo//DE
CALSCALE:GREGORIAN
METHOD:PUBLISH
BEGIN:VEVENT
UID:ba065ce86573f869d0b2c0d1f83a9405@emc1890.de
DTSTAMP:20260422T075419Z
DTSTART:20221202T180000Z
DTEND:20221202T200000Z
SUMMARY:1. Adventskonzert
LOCATION:Thomaskirche Erfurt
DESCRIPTION: Adventskonzert in der Thomaskirche Erfurt mit dem Erfurter Männerchor 1890 e.V. und dem Erfurter Lehrerchor unter Leitung von Christian Wolf. 
URL:https://emc1890.de/konzerte/archiv/2022/adventskonzert-1/
STATUS:CONFIRMED
END:VEVENT
END:VCALENDAR
