BEGIN:VCALENDAR
VERSION:2.0
PRODID:-//Erfurter Männerchor 1890 e.V.//Hugo//DE
CALSCALE:GREGORIAN
METHOD:PUBLISH
BEGIN:VEVENT
UID:e1d0dba1a4e96c9848bc1842e620cd75@emc1890.de
DTSTAMP:20260422T075419Z
DTSTART:20200208T130000Z
DTEND:20200208T150000Z
SUMMARY:Meisterfreisprechung
LOCATION:Messehalle 1
DESCRIPTION:Musikalische Umrahmung der Meisterfreisprechung in der Messehalle 1 – geschlossene Veranstaltung.
URL:https://emc1890.de/konzerte/archiv/2020/meisterfreisprechung/
STATUS:CONFIRMED
END:VEVENT
END:VCALENDAR
