BEGIN:VCALENDAR
VERSION:2.0
PRODID:-//Erfurter Männerchor 1890 e.V.//Hugo//DE
CALSCALE:GREGORIAN
METHOD:PUBLISH
BEGIN:VEVENT
UID:aab21f101039f98939de304a8dab866c@emc1890.de
DTSTAMP:20260422T075419Z
DTSTART:20190706T140000Z
DTEND:20190706T160000Z
SUMMARY:Sommerkonzert
LOCATION:Gustav-Adolf-Kirche Erfurt
DESCRIPTION:Sommerkonzert in der Gustav-Adolf-Kirche in Erfurt-Südost/Herrenberg. Der Chor wird von Jens Nedeß am Klavier begleitet. Eintritt frei.
URL:https://emc1890.de/konzerte/archiv/2019/sommerkonzert/
STATUS:CONFIRMED
END:VEVENT
END:VCALENDAR
