BEGIN:VCALENDAR
VERSION:2.0
PRODID:-//Erfurter Männerchor 1890 e.V.//Hugo//DE
CALSCALE:GREGORIAN
METHOD:PUBLISH
BEGIN:VEVENT
UID:020472ae5e69b3b42d3f419f8f87ae94@emc1890.de
DTSTAMP:20260422T075419Z
DTSTART:20190621T220000Z
DTEND:20190622T180000Z
SUMMARY:Sängerkreistreffen
LOCATION:Rotenburg an der Fulda
DESCRIPTION:Sängerkreistreffen in Rotenburg an der Fulda – Tagesfahrt mit Angehörigen.
URL:https://emc1890.de/konzerte/archiv/2019/saengerkreistreffen/
STATUS:CONFIRMED
END:VEVENT
END:VCALENDAR
