BEGIN:VCALENDAR
VERSION:2.0
PRODID:-//Erfurter Männerchor 1890 e.V.//Hugo//DE
CALSCALE:GREGORIAN
METHOD:PUBLISH
BEGIN:VEVENT
UID:eb1cfe9fae9258cbc21b7112698c976b@emc1890.de
DTSTAMP:20260422T075419Z
DTSTART:20190609T080000Z
DTEND:20190609T100000Z
SUMMARY:Traditionelles Pfingstsingen
LOCATION:Sängerwiese im Erfurter Steigerwald
DESCRIPTION:Traditionelles Pfingstsingen auf der Sängerwiese im Erfurter Steigerwald – kostenlos für alle Besucher.
URL:https://emc1890.de/konzerte/archiv/2019/pfingstsingen/
STATUS:CONFIRMED
END:VEVENT
END:VCALENDAR
