BEGIN:VCALENDAR
VERSION:2.0
PRODID:-//Erfurter Männerchor 1890 e.V.//Hugo//DE
CALSCALE:GREGORIAN
METHOD:PUBLISH
BEGIN:VEVENT
UID:d10b14e08e8924213d6ac3b115eac053@emc1890.de
DTSTAMP:20260422T075419Z
DTSTART:20190222T230000Z
DTEND:20190223T010000Z
SUMMARY:Meisterfreisprechung
LOCATION:Messehalle 1
DESCRIPTION:Musikalische Umrahmung der Meisterfreisprechung in der Messehalle 1 – geschlossene Veranstaltung.
URL:https://emc1890.de/konzerte/archiv/2019/meisterfreisprechung/
STATUS:CONFIRMED
END:VEVENT
END:VCALENDAR
