BEGIN:VCALENDAR
VERSION:2.0
PRODID:-//Erfurter Männerchor 1890 e.V.//Hugo//DE
CALSCALE:GREGORIAN
METHOD:PUBLISH
BEGIN:VEVENT
UID:f07a8850df1fd96de491aea338dd96e3@emc1890.de
DTSTAMP:20260422T075419Z
DTSTART:20190908T140000Z
DTEND:20190908T160000Z
SUMMARY:Konzert Erfurter Männerchöre
LOCATION:Rathausinnenhof Erfurt
DESCRIPTION:Konzert Erfurter Männerchöre im Rathausinnenhof – kostenlos. Mitwirkende: Männerchor Cäcilia 1880 Erfurt-Dittelstedt und Erfurter Männerchor 1890 e.V.
URL:https://emc1890.de/konzerte/archiv/2019/konzert-maennerchoere/
STATUS:CONFIRMED
END:VEVENT
END:VCALENDAR
