BEGIN:VCALENDAR
VERSION:2.0
PRODID:-//Erfurter Männerchor 1890 e.V.//Hugo//DE
CALSCALE:GREGORIAN
METHOD:PUBLISH
BEGIN:VEVENT
UID:6f44b78b5843a7a8621976f40b772ccf@emc1890.de
DTSTAMP:20260422T075419Z
DTSTART:20190412T173000Z
DTEND:20190412T193000Z
SUMMARY:Frühlingskonzert Erfurter Chöre
LOCATION:Rathausfestsaal Erfurt
DESCRIPTION:Frühlingskonzert Erfurter Chöre im Rathausfestsaal Erfurt.
URL:https://emc1890.de/konzerte/archiv/2019/fruehlingskonzert/
STATUS:CONFIRMED
END:VEVENT
END:VCALENDAR
