BEGIN:VCALENDAR
VERSION:2.0
PRODID:-//Erfurter Männerchor 1890 e.V.//Hugo//DE
CALSCALE:GREGORIAN
METHOD:PUBLISH
BEGIN:VEVENT
UID:430160bc60f997663523601d66f0b6e1@emc1890.de
DTSTAMP:20260422T075419Z
DTSTART:20190903T180000Z
DTEND:20190903T200000Z
SUMMARY:Eröffnung Denkmaltage
LOCATION:Erfurter Anger am Bartholomäusturm
DESCRIPTION:Musikalische Eröffnung der Denkmaltage am Erfurter Anger beim Bartholomäusturm.
URL:https://emc1890.de/konzerte/archiv/2019/denkmaleroeffnung/
STATUS:CONFIRMED
END:VEVENT
END:VCALENDAR
