BEGIN:VCALENDAR
VERSION:2.0
PRODID:-//Erfurter Männerchor 1890 e.V.//Hugo//DE
CALSCALE:GREGORIAN
METHOD:PUBLISH
BEGIN:VEVENT
UID:48f343894e9eba9d56e72ff24b829317@emc1890.de
DTSTAMP:20260422T075419Z
DTSTART:20191214T160000Z
DTEND:20191214T180000Z
SUMMARY:Adventskonzert
LOCATION:Andreas-Kirche Erfurt
DESCRIPTION:Adventskonzert in der Andreas-Kirche Erfurt.
URL:https://emc1890.de/konzerte/archiv/2019/adventskonzert-andreas/
STATUS:CONFIRMED
END:VEVENT
END:VCALENDAR
