BEGIN:VCALENDAR
VERSION:2.0
PRODID:-//Erfurter Männerchor 1890 e.V.//Hugo//DE
CALSCALE:GREGORIAN
METHOD:PUBLISH
BEGIN:VEVENT
UID:ad8554d75180ccb8af51dab6d8e63226@emc1890.de
DTSTAMP:20260422T075419Z
DTSTART:20191207T180000Z
DTEND:20191207T200000Z
SUMMARY:2. Adventskonzert
LOCATION:Thomaskirche Erfurt
DESCRIPTION: Adventskonzert in der Thomaskirche Erfurt mit dem Erfurter Männerchor 1890 e.V., Erfurter Lehrerchor, Brassquintett &amp;ldquo;nur.blech&amp;rdquo; und Natascha Scholl unter Leitung von Christian Wolf. 
URL:https://emc1890.de/konzerte/archiv/2019/adventskonzert-2/
STATUS:CONFIRMED
END:VEVENT
END:VCALENDAR
