BEGIN:VCALENDAR
VERSION:2.0
PRODID:-//Erfurter Männerchor 1890 e.V.//Hugo//DE
CALSCALE:GREGORIAN
METHOD:PUBLISH
BEGIN:VEVENT
UID:2841bbd0b556b269a5e82d4dd64f0fda@emc1890.de
DTSTAMP:20260422T075419Z
DTSTART:20191206T180000Z
DTEND:20191206T200000Z
SUMMARY:1. Adventskonzert
LOCATION:Thomaskirche Erfurt
DESCRIPTION: Adventskonzert in der Thomaskirche Erfurt mit dem Erfurter Männerchor 1890 e.V., Erfurter Lehrerchor, Brassquintett &amp;ldquo;nur.blech&amp;rdquo; und Natascha Scholl unter Leitung von Christian Wolf. 
URL:https://emc1890.de/konzerte/archiv/2019/adventskonzert-1/
STATUS:CONFIRMED
END:VEVENT
END:VCALENDAR
