BEGIN:VCALENDAR
VERSION:2.0
PRODID:-//Erfurter Männerchor 1890 e.V.//Hugo//DE
CALSCALE:GREGORIAN
METHOD:PUBLISH
BEGIN:VEVENT
UID:89288a28dbd1ef20f14347f4ce2ea733@emc1890.de
DTSTAMP:20260422T075419Z
DTSTART:20190523T160000Z
DTEND:20190523T180000Z
SUMMARY:Abendsingen Erfurter Chöre
LOCATION:Kaufmannskirche Erfurt
DESCRIPTION:Abendsingen Erfurter Chöre in der Kaufmannskirche Erfurt.
URL:https://emc1890.de/konzerte/archiv/2019/abendsingen/
STATUS:CONFIRMED
END:VEVENT
END:VCALENDAR
