BEGIN:VCALENDAR
VERSION:2.0
PRODID:-//Erfurter Männerchor 1890 e.V.//Hugo//DE
CALSCALE:GREGORIAN
METHOD:PUBLISH
BEGIN:VEVENT
UID:66c81301be141e04b7583980c8f61833@emc1890.de
DTSTAMP:20260422T075419Z
DTSTART:20181215T160000Z
DTEND:20181215T180000Z
SUMMARY:Vorweihnachtliches Konzert
LOCATION:Kirche „St. Trinitatis&#34; Herbsleben
DESCRIPTION:Vorweihnachtliches Konzert in der Kirche St. Trinitatis Herbsleben
URL:https://emc1890.de/konzerte/archiv/2018/vorweihnachtliches-konzert/
STATUS:CONFIRMED
END:VEVENT
END:VCALENDAR
