BEGIN:VCALENDAR
VERSION:2.0
PRODID:-//Erfurter Männerchor 1890 e.V.//Hugo//DE
CALSCALE:GREGORIAN
METHOD:PUBLISH
BEGIN:VEVENT
UID:c5ea3feee3c98e555fab8b07f412af94@emc1890.de
DTSTAMP:20260422T075419Z
DTSTART:20180217T130000Z
DTEND:20180217T150000Z
SUMMARY:Meisterfreisprechung der Handwerkskammer
LOCATION:Messehalle 1
DESCRIPTION:Meisterfreisprechung der Handwerkskammer
URL:https://emc1890.de/konzerte/archiv/2018/meisterfreisprechung/
STATUS:CONFIRMED
END:VEVENT
END:VCALENDAR
