BEGIN:VCALENDAR
VERSION:2.0
PRODID:-//Erfurter Männerchor 1890 e.V.//Hugo//DE
CALSCALE:GREGORIAN
METHOD:PUBLISH
BEGIN:VEVENT
UID:56cbe5db84d25b414a19e73f4a18a5d5@emc1890.de
DTSTAMP:20260422T075419Z
DTSTART:20180909T140000Z
DTEND:20180909T170000Z
SUMMARY:Konzert Erfurter Männerchöre
LOCATION:Rathaus-Innenhof Erfurt
DESCRIPTION:Konzert der Erfurter Männerchöre im Innenhof des Erfurter Rathauses – kostenfrei.
URL:https://emc1890.de/konzerte/archiv/2018/konzert-maennerchoere/
STATUS:CONFIRMED
END:VEVENT
END:VCALENDAR
