BEGIN:VCALENDAR
VERSION:2.0
PRODID:-//Erfurter Männerchor 1890 e.V.//Hugo//DE
CALSCALE:GREGORIAN
METHOD:PUBLISH
BEGIN:VEVENT
UID:cbd339b6211ce00148ffbb41fb137150@emc1890.de
DTSTAMP:20260422T075419Z
DTSTART:20180323T170000Z
DTEND:20180323T200000Z
SUMMARY:Lange Nacht der Hausmusik
LOCATION:Probenraum im Gildehaus
DESCRIPTION:Lange Nacht der Hausmusik im Gildehaus
URL:https://emc1890.de/konzerte/archiv/2018/hausmusik/
STATUS:CONFIRMED
END:VEVENT
END:VCALENDAR
