BEGIN:VCALENDAR
VERSION:2.0
PRODID:-//Erfurter Männerchor 1890 e.V.//Hugo//DE
CALSCALE:GREGORIAN
METHOD:PUBLISH
BEGIN:VEVENT
UID:54044b0c875a5a16d0928fda9dfe360a@emc1890.de
DTSTAMP:20260422T075419Z
DTSTART:20180420T173000Z
DTEND:20180420T193000Z
SUMMARY:2. Frühlingskonzert Erfurter Chöre
LOCATION:Rathausfestsaal Erfurt
DESCRIPTION: Frühlingskonzert Erfurter Chöre im Rathausfestsaal 
URL:https://emc1890.de/konzerte/archiv/2018/fruehlingskonzert/
STATUS:CONFIRMED
END:VEVENT
END:VCALENDAR
