BEGIN:VCALENDAR
VERSION:2.0
PRODID:-//Erfurter Männerchor 1890 e.V.//Hugo//DE
CALSCALE:GREGORIAN
METHOD:PUBLISH
BEGIN:VEVENT
UID:c88a4e734c8436db48b681073d2c5242@emc1890.de
DTSTAMP:20260422T075419Z
DTSTART:20180616T120000Z
DTEND:20180616T140000Z
SUMMARY:Chorkonzert in Stadtroda
LOCATION:Klosterruine Stadtroda
DESCRIPTION:Chorkonzert in der Klosterruine Stadtroda gemeinsam mit dem Stadtrodaer Männerchor.
URL:https://emc1890.de/konzerte/archiv/2018/chorkonzert-stadtroda/
STATUS:CONFIRMED
END:VEVENT
END:VCALENDAR
