BEGIN:VCALENDAR
VERSION:2.0
PRODID:-//Erfurter Männerchor 1890 e.V.//Hugo//DE
CALSCALE:GREGORIAN
METHOD:PUBLISH
BEGIN:VEVENT
UID:04b76e2f1fa94f91ac69a28a11d13f39@emc1890.de
DTSTAMP:20260422T075419Z
DTSTART:20181208T180000Z
DTEND:20181208T200000Z
SUMMARY:2. Adventskonzert &#34;Still liegt die Winternacht&#34;
LOCATION:Thomaskirche Erfurt
DESCRIPTION: Adventskonzert &amp;ldquo;Still liegt die Winternacht&amp;rdquo; in der Thomaskirche Erfurt. 
URL:https://emc1890.de/konzerte/archiv/2018/adventskonzert-2/
STATUS:CONFIRMED
END:VEVENT
END:VCALENDAR
