BEGIN:VCALENDAR
VERSION:2.0
PRODID:-//Erfurter Männerchor 1890 e.V.//Hugo//DE
CALSCALE:GREGORIAN
METHOD:PUBLISH
BEGIN:VEVENT
UID:357dfbaca0694588754cdf93e5a2aa8c@emc1890.de
DTSTAMP:20260422T075419Z
DTSTART:20181207T180000Z
DTEND:20181207T200000Z
SUMMARY:1. Adventskonzert &#34;Still liegt die Winternacht&#34;
LOCATION:Thomaskirche Erfurt
DESCRIPTION: Adventskonzert &amp;ldquo;Still liegt die Winternacht&amp;rdquo; in der Thomaskirche Erfurt mit dem Erfurter Lehrerchor, Brassquintett &amp;ldquo;nur.blech&amp;rdquo; und Solisten. Leitung: Christian Wolf. 
URL:https://emc1890.de/konzerte/archiv/2018/adventskonzert-1/
STATUS:CONFIRMED
END:VEVENT
END:VCALENDAR
