BEGIN:VCALENDAR
VERSION:2.0
PRODID:-//Erfurter Männerchor 1890 e.V.//Hugo//DE
CALSCALE:GREGORIAN
METHOD:PUBLISH
BEGIN:VEVENT
UID:1bc7ac750a95eb994f6c324f296fd7c1@emc1890.de
DTSTAMP:20260422T075419Z
DTSTART:20170910T140000Z
DTEND:20170910T160000Z
SUMMARY:Chorkonzert Erfurter Männerchöre
LOCATION:Rathaus-Innenhof Erfurt
DESCRIPTION:Chorkonzert der Erfurter Männerchöre im Rathaus-Innenhof – kostenfrei.
URL:https://emc1890.de/konzerte/archiv/2017/konzert-maennerchoere/
STATUS:CONFIRMED
END:VEVENT
END:VCALENDAR
