BEGIN:VCALENDAR
VERSION:2.0
PRODID:-//Erfurter Männerchor 1890 e.V.//Hugo//DE
CALSCALE:GREGORIAN
METHOD:PUBLISH
BEGIN:VEVENT
UID:a976b9c7b69a781cf139ef1c3e2e0654@emc1890.de
DTSTAMP:20260422T075419Z
DTSTART:20170317T183000Z
DTEND:20170317T203000Z
SUMMARY:Frühlingskonzert
LOCATION:Rathausfestsaal Erfurt
DESCRIPTION:Frühlingskonzert im Rathausfestsaal Erfurt mit Silicon Vocale, dem Erfurter Männerchor 1890 e.V. und dem Erfurter Lehrerchor.
URL:https://emc1890.de/konzerte/archiv/2017/fruehlingskonzert/
STATUS:CONFIRMED
END:VEVENT
END:VCALENDAR
