BEGIN:VCALENDAR
VERSION:2.0
PRODID:-//Erfurter Männerchor 1890 e.V.//Hugo//DE
CALSCALE:GREGORIAN
METHOD:PUBLISH
BEGIN:VEVENT
UID:91469b583f99e86aba98e98378e605de@emc1890.de
DTSTAMP:20260422T075419Z
DTSTART:20171209T180000Z
DTEND:20171209T200000Z
SUMMARY:2. Adventskonzert &#34;Vom Himmel hoch&#34;
LOCATION:Thomaskirche Erfurt
DESCRIPTION: Adventskonzert &amp;ldquo;Vom Himmel hoch&amp;rdquo; in der Thomaskirche Erfurt. 
URL:https://emc1890.de/konzerte/archiv/2017/adventskonzert-2/
STATUS:CONFIRMED
END:VEVENT
END:VCALENDAR
