BEGIN:VCALENDAR
VERSION:2.0
PRODID:-//Erfurter Männerchor 1890 e.V.//Hugo//DE
CALSCALE:GREGORIAN
METHOD:PUBLISH
BEGIN:VEVENT
UID:100829c62e93fac5f847ecebbb9b6d25@emc1890.de
DTSTAMP:20260422T075419Z
DTSTART:20171208T180000Z
DTEND:20171208T200000Z
SUMMARY:1. Adventskonzert &#34;Vom Himmel hoch&#34;
LOCATION:Thomaskirche Erfurt
DESCRIPTION: Adventskonzert &amp;ldquo;Vom Himmel hoch&amp;rdquo; in der Thomaskirche Erfurt mit Viola da Gamba, Sopran, Orgel und Klavier. Einlass ab 18:15 Uhr. 
URL:https://emc1890.de/konzerte/archiv/2017/adventskonzert-1/
STATUS:CONFIRMED
END:VEVENT
END:VCALENDAR
