BEGIN:VCALENDAR
VERSION:2.0
PRODID:-//Erfurter Männerchor 1890 e.V.//Hugo//DE
CALSCALE:GREGORIAN
METHOD:PUBLISH
BEGIN:VEVENT
UID:98843ecc4eab708e6f594cfeb7e2db0c@emc1890.de
DTSTAMP:20260422T075419Z
DTSTART:20161210T170000Z
DTEND:20161210T190000Z
SUMMARY:Vorweihnachtliches Konzert
LOCATION:Kirche St. Trinitatis Herbsleben
DESCRIPTION:Vorweihnachtliches Konzert in der Kirche St. Trinitatis in Herbsleben.
URL:https://emc1890.de/konzerte/archiv/2016/vorweihnachtliches-konzert/
STATUS:CONFIRMED
END:VEVENT
END:VCALENDAR
