BEGIN:VCALENDAR
VERSION:2.0
PRODID:-//Erfurter Männerchor 1890 e.V.//Hugo//DE
CALSCALE:GREGORIAN
METHOD:PUBLISH
BEGIN:VEVENT
UID:ce3ff57f8ed6dcd7db2cf439933f0649@emc1890.de
DTSTAMP:20260422T075419Z
DTSTART:20160619T150000Z
DTEND:20160619T170000Z
SUMMARY:Sommerkonzert
LOCATION:Lutherkirche Erfurt
DESCRIPTION:Sommerkonzert in der Lutherkirche Erfurt mit dem Erfurter Männerchor 1890 e.V. und dem Erfurter Lehrerchor.
URL:https://emc1890.de/konzerte/archiv/2016/sommerkonzert/
STATUS:CONFIRMED
END:VEVENT
END:VCALENDAR
