BEGIN:VCALENDAR
VERSION:2.0
PRODID:-//Erfurter Männerchor 1890 e.V.//Hugo//DE
CALSCALE:GREGORIAN
METHOD:PUBLISH
BEGIN:VEVENT
UID:4013c7816cad24a5ab360358b45aaa35@emc1890.de
DTSTAMP:20260422T075419Z
DTSTART:20160515T080000Z
DTEND:20160515T100000Z
SUMMARY:Traditionelles Pfingstsingen
LOCATION:Sängerwiese im Steigerwald
DESCRIPTION:Traditionelles Pfingstsingen auf der Sängerwiese im Steigerwald – kostenlos für alle Besucher.
URL:https://emc1890.de/konzerte/archiv/2016/pfingstsingen/
STATUS:CONFIRMED
END:VEVENT
END:VCALENDAR
