BEGIN:VCALENDAR
VERSION:2.0
PRODID:-//Erfurter Männerchor 1890 e.V.//Hugo//DE
CALSCALE:GREGORIAN
METHOD:PUBLISH
BEGIN:VEVENT
UID:32cb8c85c68dc05b006f8879d4ab903d@emc1890.de
DTSTAMP:20260422T075419Z
DTSTART:20160220T130000Z
DTEND:20160220T160000Z
SUMMARY:Meisterfreisprechung
LOCATION:Messe Erfurt Halle 1
DESCRIPTION:Musikalische Umrahmung der Meisterfreisprechung in der Messe Erfurt Halle 1. Geschlossene Veranstaltung.
URL:https://emc1890.de/konzerte/archiv/2016/meisterfreisprechung/
STATUS:CONFIRMED
END:VEVENT
END:VCALENDAR
